BEGIN:VCALENDAR
VERSION:2.0
PRODID:-//Kreisverkehrswacht Straubing e.V. - ECPv6.15.20//NONSGML v1.0//EN
CALSCALE:GREGORIAN
METHOD:PUBLISH
X-ORIGINAL-URL:https://kreisverkehrswacht-straubing.de
X-WR-CALDESC:Veranstaltungen für Kreisverkehrswacht Straubing e.V.
REFRESH-INTERVAL;VALUE=DURATION:PT1H
X-Robots-Tag:noindex
X-PUBLISHED-TTL:PT1H
BEGIN:VTIMEZONE
TZID:Europe/Berlin
BEGIN:DAYLIGHT
TZOFFSETFROM:+0100
TZOFFSETTO:+0200
TZNAME:CEST
DTSTART:20250330T010000
END:DAYLIGHT
BEGIN:STANDARD
TZOFFSETFROM:+0200
TZOFFSETTO:+0100
TZNAME:CET
DTSTART:20251026T010000
END:STANDARD
BEGIN:DAYLIGHT
TZOFFSETFROM:+0100
TZOFFSETTO:+0200
TZNAME:CEST
DTSTART:20260329T010000
END:DAYLIGHT
BEGIN:STANDARD
TZOFFSETFROM:+0200
TZOFFSETTO:+0100
TZNAME:CET
DTSTART:20261025T010000
END:STANDARD
BEGIN:DAYLIGHT
TZOFFSETFROM:+0100
TZOFFSETTO:+0200
TZNAME:CEST
DTSTART:20270328T010000
END:DAYLIGHT
BEGIN:STANDARD
TZOFFSETFROM:+0200
TZOFFSETTO:+0100
TZNAME:CET
DTSTART:20271031T010000
END:STANDARD
END:VTIMEZONE
BEGIN:VEVENT
DTSTART;TZID=Europe/Berlin:20260522T130000
DTEND;TZID=Europe/Berlin:20260626T150000
DTSTAMP:20260423T191217
CREATED:20260421T145835Z
LAST-MODIFIED:20260421T155313Z
UID:15769083-1779454800-1782486000@kreisverkehrswacht-straubing.de
SUMMARY:Angebot Pedelec-Training für Senioren ab 60 Jahren
DESCRIPTION:
URL:https://kreisverkehrswacht-straubing.de/event/angebot-pedelec-training-fuer-senioren-ab-60-jahren/
ATTACH;FMTTYPE=image/webp:https://kreisverkehrswacht-straubing.de/wp-content/uploads/2026/04/2026-04-03_Pedelec_Training.webp
END:VEVENT
END:VCALENDAR