BEGIN:VCALENDAR
VERSION:2.0
PRODID:-//Kreisverkehrswacht Straubing e.V. - ECPv6.15.20//NONSGML v1.0//EN
CALSCALE:GREGORIAN
METHOD:PUBLISH
X-WR-CALNAME:Kreisverkehrswacht Straubing e.V.
X-ORIGINAL-URL:https://kreisverkehrswacht-straubing.de
X-WR-CALDESC:Veranstaltungen für Kreisverkehrswacht Straubing e.V.
REFRESH-INTERVAL;VALUE=DURATION:PT1H
X-Robots-Tag:noindex
X-PUBLISHED-TTL:PT1H
BEGIN:VTIMEZONE
TZID:Europe/Berlin
BEGIN:DAYLIGHT
TZOFFSETFROM:+0100
TZOFFSETTO:+0200
TZNAME:CEST
DTSTART:20250330T010000
END:DAYLIGHT
BEGIN:STANDARD
TZOFFSETFROM:+0200
TZOFFSETTO:+0100
TZNAME:CET
DTSTART:20251026T010000
END:STANDARD
BEGIN:DAYLIGHT
TZOFFSETFROM:+0100
TZOFFSETTO:+0200
TZNAME:CEST
DTSTART:20260329T010000
END:DAYLIGHT
BEGIN:STANDARD
TZOFFSETFROM:+0200
TZOFFSETTO:+0100
TZNAME:CET
DTSTART:20261025T010000
END:STANDARD
BEGIN:DAYLIGHT
TZOFFSETFROM:+0100
TZOFFSETTO:+0200
TZNAME:CEST
DTSTART:20270328T010000
END:DAYLIGHT
BEGIN:STANDARD
TZOFFSETFROM:+0200
TZOFFSETTO:+0100
TZNAME:CET
DTSTART:20271031T010000
END:STANDARD
END:VTIMEZONE
BEGIN:VEVENT
DTSTART;TZID=Europe/Berlin:20260503T100000
DTEND;TZID=Europe/Berlin:20260503T160000
DTSTAMP:20260423T154709
CREATED:20251210T135804Z
LAST-MODIFIED:20260302T165245Z
UID:15768107-1777802400-1777824000@kreisverkehrswacht-straubing.de
SUMMARY:Motorradgottesdienst mit Präventionsveranstaltung
DESCRIPTION:
URL:https://kreisverkehrswacht-straubing.de/event/motorradgottesdienst2026/
LOCATION:Messehalle der Straubinger Ausstellungs- und Verwaltungs GmbH\, Am Hagen\, Straubing\, Bayern\, 94315\, Germany
ATTACH;FMTTYPE=image/webp:https://kreisverkehrswacht-straubing.de/wp-content/uploads/2025/12/DVW_Logoreihe_MachMit_2025_webp.webp
END:VEVENT
END:VCALENDAR